BEGIN:VCALENDAR
VERSION:2.0
PRODID:icalendar-ruby
CALSCALE:GREGORIAN
METHOD:PUBLISH
BEGIN:VEVENT
DTSTAMP:20260424T211643Z
UID:26-3063472@newlifealliance.org
DTSTART:20261029T230000Z
DTEND:20261030T010000Z
CLASS:PUBLIC
CREATED:20260424T154712
DESCRIPTION:Want to be included in prayer time\, send the Church your email
  so you can be added!
LAST-MODIFIED:20260424T154712
LOCATION:Online by invite only
SUMMARY:Weekly Online Prayer Meeting
URL;VALUE=URI:https://newlifealliance.org/events/weekly-online-prayer-meeti
 ng/2026-10-29
ATTACH;FILENAME=1V3I.jpg;FMTTYPE=image/jpeg:https://dq5pwpg1q8ru0.cloudfron
 t.net/2022/04/30/16/18/19/eeaa872d-7f0c-444b-8f2a-bdbd923c4b85/1V3I.jpg
END:VEVENT
END:VCALENDAR
